BEGIN:VCALENDAR
VERSION:2.0
PRODID:-//pretix//Twilight_Paradox_Cinema//
BEGIN:VTIMEZONE
TZID:US/Pacific
BEGIN:STANDARD
DTSTART:20001029T030000
RRULE:FREQ=YEARLY;BYDAY=-1SU;BYMONTH=10;UNTIL=20061029T100000Z
TZNAME:PST
TZOFFSETFROM:-0700
TZOFFSETTO:-0800
END:STANDARD
BEGIN:STANDARD
DTSTART:20071104T030000
RRULE:FREQ=YEARLY;BYDAY=1SU;BYMONTH=11
TZNAME:PST
TZOFFSETFROM:-0700
TZOFFSETTO:-0800
END:STANDARD
BEGIN:DAYLIGHT
DTSTART:20000402T030000
RRULE:FREQ=YEARLY;BYDAY=1SU;BYMONTH=4;UNTIL=20060402T110000Z
TZNAME:PDT
TZOFFSETFROM:-0800
TZOFFSETTO:-0700
END:DAYLIGHT
BEGIN:DAYLIGHT
DTSTART:20070311T030000
RRULE:FREQ=YEARLY;BYDAY=2SU;BYMONTH=3
TZNAME:PDT
TZOFFSETFROM:-0800
TZOFFSETTO:-0700
END:DAYLIGHT
END:VTIMEZONE
BEGIN:VEVENT
UID:pretix-studios-gfest26-45@cinema.twilight-paradox.com
DTSTART;TZID=US/Pacific:20260522T203000
DTEND;TZID=US/Pacific:20260522T213000
DESCRIPTION:Tickets: https://cinema.twilight-paradox.com/studios/gfest26/45
 /\nOrganizer: Twilight Paradox Studios
DTSTAMP:20260420T100035Z
LOCATION:Half Moon Bay\, California
SUMMARY:Only Yesterday (1991)
END:VEVENT
END:VCALENDAR
